BEGIN:VCALENDAR
VERSION:2.0
PRODID:icalendar-ruby
CALSCALE:GREGORIAN
METHOD:PUBLISH
BEGIN:VEVENT
DTSTAMP:20260423T181704Z
UID:6-1223716@vivaministries.org
DTSTART:20261025T210000Z
DTEND:20261025T223000Z
CLASS:PUBLIC
CREATED:20260423T082603
DESCRIPTION:
LAST-MODIFIED:20260423T082603
LOCATION:
SUMMARY:Domingo Servicio
URL;VALUE=URI:https://www.vivaministries.org/events/domingo-servicio--6/202
 6-10-25
ATTACH;FILENAME=FvO4f.jpg;FMTTYPE=image/jpeg:https://dq5pwpg1q8ru0.cloudfro
 nt.net/2025/02/20/00/37/37/8fd741cf-bedb-44e0-8a2c-bdfdf677b083/FvO4f.jpg
END:VEVENT
END:VCALENDAR
